BEGIN:VCALENDAR
VERSION:2.0
PRODID:-//TSV Allershausen e.V. - ECPv6.11.2//NONSGML v1.0//EN
CALSCALE:GREGORIAN
METHOD:PUBLISH
X-WR-CALNAME:TSV Allershausen e.V.
X-ORIGINAL-URL:https://tsv.sbk-solutions.com
X-WR-CALDESC:Veranstaltungen für TSV Allershausen e.V.
REFRESH-INTERVAL;VALUE=DURATION:PT1H
X-Robots-Tag:noindex
X-PUBLISHED-TTL:PT1H
BEGIN:VTIMEZONE
TZID:Europe/Amsterdam
BEGIN:DAYLIGHT
TZOFFSETFROM:+0100
TZOFFSETTO:+0200
TZNAME:CEST
DTSTART:20260329T010000
END:DAYLIGHT
BEGIN:STANDARD
TZOFFSETFROM:+0200
TZOFFSETTO:+0100
TZNAME:CET
DTSTART:20261025T010000
END:STANDARD
END:VTIMEZONE
BEGIN:VEVENT
DTSTART;TZID=Europe/Amsterdam:20260508T180000
DTEND;TZID=Europe/Amsterdam:20260508T200000
DTSTAMP:20260421T183752
CREATED:20260421T082801Z
LAST-MODIFIED:20260421T082803Z
UID:36461-1778263200-1778270400@tsv.sbk-solutions.com
SUMMARY:Tennis - Match Friday
DESCRIPTION:Jeweils Freitag – Match Friday – können Erwachsene und Jugendliche (ab 16 Jahre) Tennis unverbindlich ausprobieren oder Basics auffrischen. Trainer Kai Reichelt bietet ein anfängerfreundliches Programm\, bei dem Spaß am Spiel im Vordergrund steht. \n\n\n\n\n\n  \n\n\nTennis – Match Friday\nDie Teilnahme ist für TSV-Tennis-Mitglieder kostenlos\, TSV Mitglieder anderer Sportarten zahlen 5 €\, Gäste (nicht TSV-Mitglied) zahlen 10 € je Stunde. \nSchau einfach vorbei und werde Teil unserer Tennis-Community!
URL:https://tsv.sbk-solutions.com/event/tennis-match-friday-2/
LOCATION:tsv allershausen – Tennisanlage\, Am Amperknie\, Allershausen
CATEGORIES:TENNIS
ATTACH;FMTTYPE=image/png:https://tsv.sbk-solutions.com/wp-content/uploads/2024/10/tennis-home.png
END:VEVENT
END:VCALENDAR