BEGIN:VCALENDAR
VERSION:2.0
PRODID:-//TSV Allershausen e.V. - ECPv6.11.2//NONSGML v1.0//EN
CALSCALE:GREGORIAN
METHOD:PUBLISH
X-WR-CALNAME:TSV Allershausen e.V.
X-ORIGINAL-URL:https://tsv.sbk-solutions.com
X-WR-CALDESC:Veranstaltungen für TSV Allershausen e.V.
REFRESH-INTERVAL;VALUE=DURATION:PT1H
X-Robots-Tag:noindex
X-PUBLISHED-TTL:PT1H
BEGIN:VTIMEZONE
TZID:Europe/Amsterdam
BEGIN:DAYLIGHT
TZOFFSETFROM:+0100
TZOFFSETTO:+0200
TZNAME:CEST
DTSTART:20260329T010000
END:DAYLIGHT
BEGIN:STANDARD
TZOFFSETFROM:+0200
TZOFFSETTO:+0100
TZNAME:CET
DTSTART:20261025T010000
END:STANDARD
END:VTIMEZONE
BEGIN:VEVENT
DTSTART;TZID=Europe/Amsterdam:20260502T100000
DTEND;TZID=Europe/Amsterdam:20260502T140000
DTSTAMP:20260419T141032
CREATED:20260415T201018Z
LAST-MODIFIED:20260416T043609Z
UID:36395-1777716000-1777730400@tsv.sbk-solutions.com
SUMMARY:Sportkegeln: Freundschaftsspiel
DESCRIPTION:  \n\n\nFreundschaftsSpiel (Mit Weißwurstessen)\n TSV Allershausen Gemischt  vs.  SKC Freising-Attaching Gemischt
URL:https://tsv.sbk-solutions.com/event/sportkegeln-freundschaftsspiel/
LOCATION:Kegelbahn Ampertalhalle\, Am Amperknie 3\, Allershausen\, 85391
CATEGORIES:KEGELN
ATTACH;FMTTYPE=image/png:https://tsv.sbk-solutions.com/wp-content/uploads/2026/04/KE_20260415.png
END:VEVENT
END:VCALENDAR