BEGIN:VCALENDAR
VERSION:2.0
PRODID:-//TSV Allershausen e.V. - ECPv6.11.2//NONSGML v1.0//EN
CALSCALE:GREGORIAN
METHOD:PUBLISH
X-WR-CALNAME:TSV Allershausen e.V.
X-ORIGINAL-URL:https://tsv.sbk-solutions.com
X-WR-CALDESC:Veranstaltungen für TSV Allershausen e.V.
REFRESH-INTERVAL;VALUE=DURATION:PT1H
X-Robots-Tag:noindex
X-PUBLISHED-TTL:PT1H
BEGIN:VTIMEZONE
TZID:Europe/Amsterdam
BEGIN:DAYLIGHT
TZOFFSETFROM:+0100
TZOFFSETTO:+0200
TZNAME:CEST
DTSTART:20260329T010000
END:DAYLIGHT
BEGIN:STANDARD
TZOFFSETFROM:+0200
TZOFFSETTO:+0100
TZNAME:CET
DTSTART:20261025T010000
END:STANDARD
END:VTIMEZONE
BEGIN:VEVENT
DTSTART;TZID=Europe/Amsterdam:20260501T090000
DTEND;TZID=Europe/Amsterdam:20260502T170000
DTSTAMP:20260421T154403
CREATED:20260421T070000Z
LAST-MODIFIED:20260421T075120Z
UID:36444-1777626000-1777741200@tsv.sbk-solutions.com
SUMMARY:BTV Kids Turnier Vol. 1 26
DESCRIPTION:Unsere Jugend ist die Zukunft! Wir freuen uns\, in diesem Jahr zwei große BTV-Jugendturniere auf unserer Tennisanlage durchführen zu können. \n\n\n\n\n\n  \n\n\nBTV – Kids-Turnier\nAm 1. und 2. Mai 2026 dreht sich alles um den sportlichen Ehrgeiz\, fairen Wettkampf und die Leidenschaft der Jugend für den gelben Filzball.
URL:https://tsv.sbk-solutions.com/event/btv-kids-turnier-vol-1-26/
LOCATION:tsv allershausen – Tennisanlage\, Am Amperknie\, Allershausen
CATEGORIES:TENNIS
ATTACH;FMTTYPE=image/png:https://tsv.sbk-solutions.com/wp-content/uploads/2024/10/tennis-home.png
END:VEVENT
END:VCALENDAR